BEGIN:VCALENDAR
VERSION:2.0
PRODID:-//Alliance Française d’Islamabad - ECPv5.7.0//NONSGML v1.0//EN
CALSCALE:GREGORIAN
METHOD:PUBLISH
X-WR-CALNAME:Alliance Française d’Islamabad
X-ORIGINAL-URL:http://afislamabad.org
X-WR-CALDESC:Events for Alliance Française d’Islamabad
BEGIN:VTIMEZONE
TZID:UTC
BEGIN:STANDARD
TZOFFSETFROM:+0000
TZOFFSETTO:+0000
TZNAME:UTC
DTSTART:20250101T000000
END:STANDARD
END:VTIMEZONE
BEGIN:VEVENT
DTSTART;TZID=UTC:20250813T183000
DTEND;TZID=UTC:20250813T203000
DTSTAMP:20260420T135931
CREATED:20250804T044804Z
LAST-MODIFIED:20250804T044914Z
UID:3354-1755109800-1755117000@afislamabad.org
SUMMARY:Ciné Club - Borgo
DESCRIPTION:13 August 2025 | Start time: 6:30pm\nDoors open: 6:00pm \nIn collaboration with Asian Studies Group\nMelissa\, 32\, a prison guard\, moves to Corsica with her family. She joins the staff of a prison that’s not quite like any other. She befriends Saveriu\, a young influential inmate. Once released\, he gets back in touch with her for a favor. \nRegistration link: https://forms.gle/6V6sJcejhqdRSgjc7
URL:http://afislamabad.org/event/cine-club-borgo/
ATTACH;FMTTYPE=image/png:http://afislamabad.org/wp-content/uploads/2025/08/Red-and-White-Modern-Movie-Night-Poster-23.png
END:VEVENT
END:VCALENDAR