BEGIN:VCALENDAR
VERSION:2.0
PRODID:-//Alliance Française d’Islamabad - ECPv5.7.0//NONSGML v1.0//EN
CALSCALE:GREGORIAN
METHOD:PUBLISH
X-WR-CALNAME:Alliance Française d’Islamabad
X-ORIGINAL-URL:http://afislamabad.org
X-WR-CALDESC:Events for Alliance Française d’Islamabad
BEGIN:VTIMEZONE
TZID:UTC
BEGIN:STANDARD
TZOFFSETFROM:+0000
TZOFFSETTO:+0000
TZNAME:UTC
DTSTART:20240101T000000
END:STANDARD
END:VTIMEZONE
BEGIN:VEVENT
DTSTART;TZID=UTC:20241114T183000
DTEND;TZID=UTC:20241114T203000
DTSTAMP:20260422T083640
CREATED:20241107T053138Z
LAST-MODIFIED:20241107T053208Z
UID:3085-1731609000-1731616200@afislamabad.org
SUMMARY:CURSE OF THE GOLDEN FLOWER
DESCRIPTION:CINÉ CLUB \nCURSE OF THE GOLDEN FLOWER\nIn collaboration with Asian Studies Group \nDuring China’s Tang dynasty the emperor has taken the princess of a neighboring province as wife. She has borne him two sons and raised his eldest. Now his control over his dominion is complete\, including the royal family itself. \nThursday\, 14 November\, 2024\n06:30 – 08:30 PM \nRegistration link: https://forms.gle/VGcaZoz3m4ChzUP56
URL:http://afislamabad.org/event/curse-of-the-golden-flower/
ATTACH;FMTTYPE=image/png:http://afislamabad.org/wp-content/uploads/2024/11/Red-and-White-Modern-Movie-Night-Poster-4.png
END:VEVENT
END:VCALENDAR