BEGIN:VCALENDAR
VERSION:2.0
PRODID:-//Alliance Française d’Islamabad - ECPv5.7.0//NONSGML v1.0//EN
CALSCALE:GREGORIAN
METHOD:PUBLISH
X-WR-CALNAME:Alliance Française d’Islamabad
X-ORIGINAL-URL:http://afislamabad.org
X-WR-CALDESC:Events for Alliance Française d’Islamabad
BEGIN:VTIMEZONE
TZID:UTC
BEGIN:STANDARD
TZOFFSETFROM:+0000
TZOFFSETTO:+0000
TZNAME:UTC
DTSTART:20240101T000000
END:STANDARD
END:VTIMEZONE
BEGIN:VEVENT
DTSTART;TZID=UTC:20241213T180000
DTEND;TZID=UTC:20241213T193000
DTSTAMP:20260421T081702
CREATED:20241210T103502Z
LAST-MODIFIED:20241210T103502Z
UID:3102-1734112800-1734118200@afislamabad.org
SUMMARY:VOICES FOR THE VOICELESS: A DISCUSSION ON STREET ANIMAL RESCUE
DESCRIPTION:IN COLLABORATION WITH STRAYS HOME ANIMAL RESCUE FOUNDATION \n13 DECEMBER 2024 \nDOORS OPEN: 5:30 PM \nDISCUSSION: 6:00 PM \nRegistration link: https://forms.gle/yzWVqgmpHmNeQZEP8
URL:http://afislamabad.org/event/voices-for-the-voiceless-a-discussion-on-street-animal-rescue/
ATTACH;FMTTYPE=image/png:http://afislamabad.org/wp-content/uploads/2024/12/Rosy-Brown-Lying-Dog-Animal-Rescue-Poster-5.png
END:VEVENT
END:VCALENDAR