BEGIN:VCALENDAR
VERSION:2.0
PRODID:-//Alliance Française d’Islamabad - ECPv5.7.0//NONSGML v1.0//EN
CALSCALE:GREGORIAN
METHOD:PUBLISH
X-WR-CALNAME:Alliance Française d’Islamabad
X-ORIGINAL-URL:https://afislamabad.org
X-WR-CALDESC:Events for Alliance Française d’Islamabad
BEGIN:VTIMEZONE
TZID:UTC
BEGIN:STANDARD
TZOFFSETFROM:+0000
TZOFFSETTO:+0000
TZNAME:UTC
DTSTART:20240101T000000
END:STANDARD
END:VTIMEZONE
BEGIN:VEVENT
DTSTART;TZID=UTC:20240709T150000
DTEND;TZID=UTC:20240816T170000
DTSTAMP:20260422T034427
CREATED:20240702T110832Z
LAST-MODIFIED:20240702T110832Z
UID:2793-1720537200-1723827600@afislamabad.org
SUMMARY:Art Workshop - Art to express - Art to relax
DESCRIPTION:Art Workshop \nArt to express -Art to relax \nWith Mrs. Madiha Arsalan! Graduated with Fine arts from University of Karachi \nCourse outline: \n\nBasic introduction to line and perspective\nUse of different mediums.\nWood Carving and print making\nRelief and casting\nTextile Designing\nExperimenting oil on canvas\nWater colour and mixed media\n\nMonday to Thursday \n3:00pm to 5:00pm \nDuration: 6 Weeks \nAge: 9 years and above \n  \nStarting from 9 July 2024 \nRegistration fee: 5\,000/- Rs \nCourse Fee: 25\,000/- Rs \nAwards\, Certificates and exhibition at the completion of 6weeks’ course \ninformation: contact@afislamabad.org \n  \n051-2825218-9 \nFollow us for more information: \nFacebook: https://www.facebook.com/afislamabad \nInstagram: https://www.instagram.com/afislamabad/ \nLinkedIn: https://www.linkedin.com/company/alliance-française-islamabad \nWebsite: www.afislamabad.org
URL:https://afislamabad.org/event/art-workshop-art-to-express-art-to-relax/
ATTACH;FMTTYPE=image/jpeg:https://afislamabad.org/wp-content/uploads/2024/07/Untitled-Document-A4-3.jpg
END:VEVENT
BEGIN:VEVENT
DTSTART;TZID=UTC:20240726T173000
DTEND;TZID=UTC:20240726T193000
DTSTAMP:20260422T034427
CREATED:20240722T042400Z
LAST-MODIFIED:20240722T043206Z
UID:2909-1722015000-1722022200@afislamabad.org
SUMMARY:Ciné Court d'Abel
DESCRIPTION:Projections de films courts et discussion avec les cinéastes \nShort film screenings & discussion with filmmakers \n26th July 2024 \nAlliance Française \n5 Street 55\, F-7/4\, Islamabad Doors open 5:30 pm | Screening 6 pm \nLe cinéma est une passion qui se partage\, tout simplement parce que le cinéma délivre un message \nFor registration: \nhttps://docs.google.com/forms/d/e/1FAIpQLScss7HcniBU5ksrpLyZTef3P1qC9zQhhuSm4dKbm4IuMF6hvQ/viewform?usp=sf_link \n 
URL:https://afislamabad.org/event/cine-court-dabel/
ATTACH;FMTTYPE=image/jpeg:https://afislamabad.org/wp-content/uploads/2024/07/1-scaled.jpg
END:VEVENT
END:VCALENDAR